BEGIN:VCALENDAR
VERSION:2.0
PRODID:-//Squarespace Inc/Squarespace 6//v6//EN
BEGIN:VEVENT
UID:5afa7fba0e2e72b3186736a5@squarespace.com
DTSTAMP:20180515T064411Z
DTSTART:20180602T030000Z
DTEND:20180602T050000Z
SUMMARY:Yoga Massage Workshop
GEO:-36.762141;144.280761
LOCATION:YogaHara\, 1A King Street\, Bendigo\, VIC\, 3550\, Australia
END:VEVENT
END:VCALENDAR
