BEGIN:VCALENDAR
VERSION:2.0
PRODID:-//Squarespace Inc/Squarespace 6//v6//EN
BEGIN:VEVENT
UID:5b5182932b6a28a4f40732fc@squarespace.com
DTSTAMP:20180721T080004Z
DTSTART:20180728T233000Z
DTEND:20180729T060000Z
SUMMARY:Integrating Form\, Feeling and Freedom with Paul Wooden
END:VEVENT
END:VCALENDAR
