BEGIN:VCALENDAR
VERSION:2.0
PRODID:-//Squarespace Inc/Squarespace 6//v6//EN
BEGIN:VEVENT
UID:5b6a95301ae6cfd401107bc4@squarespace.com
DTSTAMP:20181114T093534Z
DTSTART:20181207T083000Z
DTEND:20181207T100000Z
SUMMARY:Red Tent Women's Circle
GEO:-36.762141;144.280761
LOCATION:YogaHara\, 1A King Street\, Bendigo\, Australia
END:VEVENT
END:VCALENDAR
