BEGIN:VCALENDAR
VERSION:2.0
PRODID:-//Squarespace Inc/Squarespace 6//v6//EN
BEGIN:VEVENT
UID:5b5036de0e2e72f3e4ca4355@squarespace.com
DTSTAMP:20180804T013737Z
DTSTART:20180802T074500Z
DTEND:20180802T091500Z
SUMMARY:iRest® Yoga Nidra
END:VEVENT
END:VCALENDAR
