BEGIN:VCALENDAR
VERSION:2.0
PRODID:-//Squarespace Inc/Squarespace 6//v6//EN
BEGIN:VEVENT
UID:5a9e0e3024a6940b3d439c12@squarespace.com
DTSTAMP:20181120T071111Z
DTSTART:20181123T080000Z
DTEND:20181123T093000Z
SUMMARY:Friday Philosophy
END:VEVENT
END:VCALENDAR
