BEGIN:VCALENDAR
VERSION:2.0
PRODID:-//Squarespace Inc/Squarespace 6//v6//EN
BEGIN:VEVENT
UID:5bf211c70e2e72908dcaa36d@squarespace.com
DTSTAMP:20181119T020646Z
DTSTART:20190113T190000Z
DTEND:20190117T201500Z
SUMMARY:Living Your Sankalpa Early Morning Intensive
GEO:-36.762141;144.280761
LOCATION:YogaHara\, 1A King Street\, Bendigo\, VIC\, 3550\, Australia
END:VEVENT
END:VCALENDAR
