BEGIN:VCALENDAR
VERSION:2.0
PRODID:-//Squarespace Inc/Squarespace 6//v6//EN
BEGIN:VEVENT
UID:5c2d64b41ae6cf1bac025ade@squarespace.com
DTSTAMP:20190204T041739Z
DTSTART:20190204T081500Z
DTEND:20190204T094500Z
SUMMARY:Monday Introductory Yoga - 5 Week Course with Gina
END:VEVENT
END:VCALENDAR
