BEGIN:VCALENDAR
VERSION:2.0
PRODID:-//Squarespace Inc/Squarespace 6//v6//EN
BEGIN:VEVENT
UID:5c46d1bac2241ba6b95581b8@squarespace.com
DTSTAMP:20190129T055741Z
DTSTART:20190227T081500Z
DTEND:20190403T090000Z
SUMMARY:Weekly Mindfulness Meditations
END:VEVENT
END:VCALENDAR
