BEGIN:VCALENDAR
VERSION:2.0
PRODID:-//Squarespace Inc/Squarespace 6//v6//EN
BEGIN:VEVENT
UID:5c46cef11ae6cfd79f27c881@squarespace.com
DTSTAMP:20190424T025421Z
DTSTART:20190224T030000Z
DTEND:20190224T043000Z
SUMMARY:Learn Mindfulness for Everyday Living
END:VEVENT
END:VCALENDAR
