BEGIN:VCALENDAR
VERSION:2.0
PRODID:-//Squarespace Inc/Squarespace 6//v6//EN
BEGIN:VEVENT
UID:5caab6c97817f75f41f37863@squarespace.com
DTSTAMP:20190408T025921Z
DTSTART:20190511T003000Z
DTEND:20190511T023000Z
SUMMARY:Sound Medicine Workshop with Peta Minter
GEO:-36.762141;144.280761
LOCATION:YogaHara\, 1A King Street\, Bendigo\, Australia
END:VEVENT
END:VCALENDAR
