BEGIN:VCALENDAR
VERSION:2.0
PRODID:-//Squarespace Inc/Squarespace 6//v6//EN
BEGIN:VEVENT
UID:5cc684fc71c10b7986574395@squarespace.com
DTSTAMP:20190615T042955Z
DTSTART:20190603T091500Z
DTEND:20190603T104500Z
SUMMARY:Introductory Yoga - 5 Week Course with Carolyn
END:VEVENT
END:VCALENDAR
