BEGIN:VCALENDAR
VERSION:2.0
PRODID:-//Squarespace Inc/Squarespace 6//v6//EN
BEGIN:VEVENT
UID:5bf21c8c4ae237221b1f7a76@squarespace.com
DTSTAMP:20181230T234843Z
DTSTART:20190114T070000Z
DTEND:20190125T070000Z
SUMMARY:January Holiday Program
END:VEVENT
END:VCALENDAR
