BEGIN:VCALENDAR
VERSION:2.0
PRODID:-//Squarespace Inc/Squarespace 6//v6//EN
BEGIN:VEVENT
UID:5db66d9e8cf08675afc5a758@squarespace.com
DTSTAMP:20191104T010144Z
DTSTART:20191115T071500Z
DTEND:20191213T083000Z
SUMMARY:Friday Yin with Claire
END:VEVENT
END:VCALENDAR
