BEGIN:VCALENDAR
VERSION:2.0
PRODID:-//Squarespace Inc/Squarespace 6//v6//EN
BEGIN:VEVENT
UID:5d7890e980071614671716e4@squarespace.com
DTSTAMP:20190911T063104Z
DTSTART:20191101T080000Z
DTEND:20191101T093000Z
SUMMARY:Wellbeing for Women with Gena McLean
END:VEVENT
END:VCALENDAR
