BEGIN:VCALENDAR
VERSION:2.0
PRODID:-//Squarespace Inc/Squarespace 6//v6//EN
BEGIN:VEVENT
UID:5e14484f1cfc1345036cecfe@squarespace.com
DTSTAMP:20200212T020403Z
DTSTART:20200203T081500Z
DTEND:20200203T094500Z
SUMMARY:Introductory Yoga - 5 Week Course with Gina
END:VEVENT
END:VCALENDAR
