BEGIN:VCALENDAR
VERSION:2.0
PRODID:-//Squarespace Inc/Squarespace 6//v6//EN
BEGIN:VEVENT
UID:5e1d41dfe3d43f03ae98edf5@squarespace.com
DTSTAMP:20200115T045116Z
DTSTART:20200403T223000Z
DTEND:20200405T070000Z
SUMMARY:Yoga of Sound Weekend Immersion
END:VEVENT
END:VCALENDAR
