BEGIN:VCALENDAR
VERSION:2.0
PRODID:-//Squarespace Inc/Squarespace 6//v6//EN
BEGIN:VEVENT
UID:5e1cf893e3d43f03ae8e95e4@squarespace.com
DTSTAMP:20200114T033836Z
DTSTART:20200121T081500Z
DTEND:20200324T094500Z
SUMMARY:Yoga's Foundation Philosophy: The Yamas and Niyamas
END:VEVENT
END:VCALENDAR
