BEGIN:VCALENDAR
VERSION:2.0
PRODID:-//Squarespace Inc/Squarespace 6//v6//EN
BEGIN:VEVENT
UID:5df1e24f3667f078aa488acd@squarespace.com
DTSTAMP:20200114T092035Z
DTSTART:20200628T000000Z
DTEND:20200705T063000Z
SUMMARY:50hr Yin Yoga Teacher Training
END:VEVENT
END:VCALENDAR
