BEGIN:VCALENDAR
VERSION:2.0
PRODID:-//Squarespace Inc/Squarespace 6//v6//EN
BEGIN:VEVENT
UID:5d5cae35323ee200014af2d7@squarespace.com
DTSTAMP:20191014T004930Z
DTSTART:20200809T070000Z
DTEND:20200814T230000Z
SUMMARY:Mission Beach 'Sanctuary' Yoga Retreat
GEO:-17.822499;146.098535
LOCATION:Mission Beach Sanctuary\, 72 Holt Rd\, Garners Beach QLD 4852\, Au
 stralia
END:VEVENT
END:VCALENDAR
