BEGIN:VCALENDAR
VERSION:2.0
PRODID:-//Squarespace Inc/Squarespace 6//v6//EN
BEGIN:VEVENT
UID:5b86025df950b7b16b7a7c8c@squarespace.com
DTSTAMP:20181114T093706Z
DTSTART:20181110T230000Z
DTEND:20181111T010000Z
SUMMARY:Sunday Centring
GEO:-36.759926;144.276486
LOCATION:YogaHara\, 1A King Street\, Bendigo\, Australia
END:VEVENT
END:VCALENDAR
